BEGIN:VCALENDAR
PRODID:-//eluceo/ical//2.0/EN
VERSION:2.0
CALSCALE:GREGORIAN
BEGIN:VEVENT
UID:05fe8b366f3381b6b88e1eea0481ed5b
DTSTAMP:20260423T082932Z
SUMMARY:BT Adult Ed
DESCRIPTION:Jewish Federation of Greater Naples\nCommunity Calendar\nhttps:
 //jewishnaples.org/calendar/calendar1034\n\nJewish Perspectives
DTSTART;TZID=America/New_York:20141118T121500
DTEND;TZID=America/New_York:20141118T121500
END:VEVENT
END:VCALENDAR
