BEGIN:VCALENDAR
PRODID:-//eluceo/ical//2.0/EN
VERSION:2.0
CALSCALE:GREGORIAN
BEGIN:VEVENT
UID:5b53de88e7d1cefec1120b501542f809
DTSTAMP:20260420T121033Z
SUMMARY:BT Adult Ed
DESCRIPTION:Jewish Federation of Greater Naples\nCommunity Calendar\nhttps:
 //jewishnaples.org/calendar/calendar1032\n\nJewish Perspectives
DTSTART;TZID=America/New_York:20141104T121500
DTEND;TZID=America/New_York:20141104T121500
END:VEVENT
END:VCALENDAR
