BEGIN:VCALENDAR
PRODID:-//eluceo/ical//2.0/EN
VERSION:2.0
CALSCALE:GREGORIAN
BEGIN:VEVENT
UID:6dca14547c2fb30cebe889e775969ca7
DTSTAMP:20260423T010645Z
SUMMARY:BT Adult Ed
DESCRIPTION:Jewish Federation of Greater Naples\nCommunity Calendar\nhttps:
 //jewishnaples.org/calendar/calendar1031\n\nJewish Perspectives
DTSTART;TZID=America/New_York:20141028T121500
DTEND;TZID=America/New_York:20141028T121500
END:VEVENT
END:VCALENDAR
