BEGIN:VCALENDAR
PRODID:-//eluceo/ical//2.0/EN
VERSION:2.0
CALSCALE:GREGORIAN
BEGIN:VEVENT
UID:ccb4cccf580e3434ad34b8dd27a113ff
DTSTAMP:20260421T204752Z
SUMMARY:HM Film/Author
DESCRIPTION:Jewish Federation of Greater Naples\nCommunity Calendar\nhttps:
 //jewishnaples.org/calendar/calendar103\n\nPresentation
DTSTART;TZID=America/New_York:20150316T163000
DTEND;TZID=America/New_York:20150316T163000
END:VEVENT
END:VCALENDAR
