BEGIN:VCALENDAR
PRODID:-//eluceo/ical//2.0/EN
VERSION:2.0
CALSCALE:GREGORIAN
BEGIN:VEVENT
UID:b904800a07650ce2b5e5ac4dba422238
DTSTAMP:20260422T103432Z
SUMMARY:BT Adult Ed
DESCRIPTION:Jewish Federation of Greater Naples\nCommunity Calendar\nhttps:
 //jewishnaples.org/calendar/calendar1026\n\nJewish Perspectives
DTSTART;TZID=America/New_York:20140923T121500
DTEND;TZID=America/New_York:20140923T121500
END:VEVENT
END:VCALENDAR
