BEGIN:VCALENDAR
PRODID:-//eluceo/ical//2.0/EN
VERSION:2.0
CALSCALE:GREGORIAN
BEGIN:VEVENT
UID:fc1748fdb69302dad2581ceb460379fa
DTSTAMP:20260423T225553Z
SUMMARY:BT Adult Ed
DESCRIPTION:Jewish Federation of Greater Naples\nCommunity Calendar\nhttps:
 //jewishnaples.org/calendar/calendar1024\n\nJewish Perspectives
DTSTART;TZID=America/New_York:20140909T121500
DTEND;TZID=America/New_York:20140909T121500
END:VEVENT
END:VCALENDAR
