BEGIN:VCALENDAR
PRODID:-//eluceo/ical//2.0/EN
VERSION:2.0
CALSCALE:GREGORIAN
BEGIN:VEVENT
UID:a51099dab35145d897d187f60272fea4
DTSTAMP:20260423T053641Z
SUMMARY:HM Coffee Talk
DESCRIPTION:Jewish Federation of Greater Naples\nCommunity Calendar\nhttps:
 //jewishnaples.org/calendar/calendar102\n\nElliot Katz Part 4
DTSTART;TZID=America/New_York:20150330T110000
DTEND;TZID=America/New_York:20150330T110000
END:VEVENT
END:VCALENDAR
