BEGIN:VCALENDAR
PRODID:-//eluceo/ical//2.0/EN
VERSION:2.0
CALSCALE:GREGORIAN
BEGIN:VEVENT
UID:c753c38cd302d622abbb5dba9a66b8e5
DTSTAMP:20260422T085137Z
SUMMARY:BT Adult Ed
DESCRIPTION:Jewish Federation of Greater Naples\nCommunity Calendar\nhttps:
 //jewishnaples.org/calendar/calendar1019\n\nJewish Perspectives
DTSTART;TZID=America/New_York:20140805T121500
DTEND;TZID=America/New_York:20140805T121500
END:VEVENT
END:VCALENDAR
