BEGIN:VCALENDAR
PRODID:-//eluceo/ical//2.0/EN
VERSION:2.0
CALSCALE:GREGORIAN
BEGIN:VEVENT
UID:840327444b73debb08c3e77075f5d27c
DTSTAMP:20260423T053021Z
SUMMARY:BT Adult Ed
DESCRIPTION:Jewish Federation of Greater Naples\nCommunity Calendar\nhttps:
 //jewishnaples.org/calendar/calendar1014\n\nJewish Perspectives
DTSTART;TZID=America/New_York:20140701T121500
DTEND;TZID=America/New_York:20140701T121500
END:VEVENT
END:VCALENDAR
