BEGIN:VCALENDAR
PRODID:-//eluceo/ical//2.0/EN
VERSION:2.0
CALSCALE:GREGORIAN
BEGIN:VEVENT
UID:61700fc2a259cc19a1a232495d9ae1d4
DTSTAMP:20260423T162901Z
SUMMARY:HM Triumph TENT
DESCRIPTION:Jewish Federation of Greater Naples\nCommunity Calendar\nhttps:
 //jewishnaples.org/calendar/calendar101\n\nFundraiser
DTSTART;TZID=America/New_York:20150205T170000
DTEND;TZID=America/New_York:20150205T170000
END:VEVENT
END:VCALENDAR
