BEGIN:VCALENDAR
PRODID:-//eluceo/ical//2.0/EN
VERSION:2.0
CALSCALE:GREGORIAN
BEGIN:VEVENT
UID:4d754f2a476c37736ffd47dd66a7ab4b
DTSTAMP:20260420T141715Z
SUMMARY:Bus Trip Women in Philanthropy
DESCRIPTION:Jewish Federation of Greater Naples\nCommunity Calendar\nhttps:
 //jewishnaples.org/calendar/bus-trip-women-in-philanthropy-1729542742\n\n
DTSTART;TZID=America/New_York:20241219T083000
DTEND;TZID=America/New_York:20241219T170000
END:VEVENT
END:VCALENDAR
