BEGIN:VCALENDAR
PRODID:-//eluceo/ical//2.0/EN
VERSION:2.0
CALSCALE:GREGORIAN
BEGIN:VEVENT
UID:f74ed525e3a2132c22f0c66d8aa3ce8e
DTSTAMP:20260423T015828Z
SUMMARY:BT Youth Education Program
DESCRIPTION:Jewish Federation of Greater Naples\nCommunity Calendar\nhttps:
 //jewishnaples.org/calendar/bt-youth-education-program\n\nBeth Tikvah.\n\n
 Check the school calendar with Beth Tikvah.
DTSTART;TZID=America/New_York:20170827T090000
DTEND;TZID=America/New_York:20170827T120000
END:VEVENT
END:VCALENDAR
