BEGIN:VCALENDAR
PRODID:-//eluceo/ical//2.0/EN
VERSION:2.0
CALSCALE:GREGORIAN
BEGIN:VEVENT
UID:08a4b4cf80c28f6af9f2d083bd41acad
DTSTAMP:20260423T024258Z
SUMMARY:BT Women's Rosh Hodesh Group Dec.
DESCRIPTION:Jewish Federation of Greater Naples\nCommunity Calendar\nhttps:
 //jewishnaples.org/calendar/bt-womens-rosh-hodesh-group-dec\n\nBeth Tikvah
DTSTART;TZID=America/New_York:20161204T100000
DTEND;TZID=America/New_York:20161204T100000
END:VEVENT
END:VCALENDAR
