BEGIN:VCALENDAR
PRODID:-//eluceo/ical//2.0/EN
VERSION:2.0
CALSCALE:GREGORIAN
BEGIN:VEVENT
UID:22d7acee8539886c41e308c342aa4ef7
DTSTAMP:20260424T094231Z
SUMMARY:BT Veteran's Shabbat
DESCRIPTION:Jewish Federation of Greater Naples\nCommunity Calendar\nhttps:
 //jewishnaples.org/calendar/bt-veterans-shabbat-1683724451\n\nWe will be h
 onoring and recognizing our Veteran's this Shabbat. There will be a guest 
 speaker and several artifacts to view.
DTSTART;TZID=America/New_York:20231111T093000
DTEND;TZID=America/New_York:20231111T130000
END:VEVENT
END:VCALENDAR
