BEGIN:VCALENDAR
PRODID:-//eluceo/ical//2.0/EN
VERSION:2.0
CALSCALE:GREGORIAN
BEGIN:VEVENT
UID:e0dd9527cde5da7548bc3e8e74758af7
DTSTAMP:20260424T070444Z
SUMMARY:BT Veterans Day Shabbat
DESCRIPTION:Jewish Federation of Greater Naples\nCommunity Calendar\nhttps:
 //jewishnaples.org/calendar/bt-veterans-day-shabbat\n\nBeth Tikvah\n\n​V
 eterans Day Shabbat
DTSTART;TZID=America/New_York:20171111T093000
DTEND;TZID=America/New_York:20171111T123000
END:VEVENT
END:VCALENDAR
