BEGIN:VCALENDAR
PRODID:-//eluceo/ical//2.0/EN
VERSION:2.0
CALSCALE:GREGORIAN
BEGIN:VEVENT
UID:cfad4a016f6502f252d0b2a9076cb42f
DTSTAMP:20260424T075448Z
SUMMARY:BT Veterans Day Commemoration
DESCRIPTION:Jewish Federation of Greater Naples\nCommunity Calendar\nhttps:
 //jewishnaples.org/calendar/bt-veterans-day-commemoration-1559835931\n\nBe
 th Tikvah Veterans Day Commemoration\n\n9:00 AM Service followed by a ligh
 t breakfast and lecture
DTSTART;TZID=America/New_York:20191110T090000
DTEND;TZID=America/New_York:20191110T110000
END:VEVENT
END:VCALENDAR
