BEGIN:VCALENDAR
PRODID:-//eluceo/ical//2.0/EN
VERSION:2.0
CALSCALE:GREGORIAN
BEGIN:VEVENT
UID:759084b377830d371aecd02a7851d623
DTSTAMP:20260423T031301Z
SUMMARY:BT Sunday School
DESCRIPTION:Jewish Federation of Greater Naples\nCommunity Calendar\nhttps:
 //jewishnaples.org/calendar/bt-sunday-school-1528297732\n\nBT Sunday Schoo
 l\n\n*No classes during holidays and the months of June\, July\, and Augus
 t until August 26th.\n\nPlease check their school calendar.
DTSTART;TZID=America/New_York:20180902T090000
DTEND;TZID=America/New_York:20180902T110000
END:VEVENT
END:VCALENDAR
