BEGIN:VCALENDAR
PRODID:-//eluceo/ical//2.0/EN
VERSION:2.0
CALSCALE:GREGORIAN
BEGIN:VEVENT
UID:6c2785b1163848c9b553e7d22b1c65b9
DTSTAMP:20260424T070329Z
SUMMARY:BT Succot Yom Tov
DESCRIPTION:Jewish Federation of Greater Naples\nCommunity Calendar\nhttps:
 //jewishnaples.org/calendar/bt-succot-yom-tov\n\nBeth Tikvah
DTSTART;TZID=America/New_York:20161017T090000
DTEND;TZID=America/New_York:20161017T090000
END:VEVENT
END:VCALENDAR
