BEGIN:VCALENDAR
PRODID:-//eluceo/ical//2.0/EN
VERSION:2.0
CALSCALE:GREGORIAN
BEGIN:VEVENT
UID:3ef7b4cd32fe6db189733bdde51b74f5
DTSTAMP:20260422T010443Z
SUMMARY:BT Special Shabbat
DESCRIPTION:Jewish Federation of Greater Naples\nCommunity Calendar\nhttps:
 //jewishnaples.org/calendar/bt-special-shabbat-1588084744\n\nBeth Tikvah\n
 Special Shabbat Sermon\, Rabbi Elson
DTSTART;TZID=America/New_York:20210116T093000
DTEND;TZID=America/New_York:20210116T110000
END:VEVENT
END:VCALENDAR
