BEGIN:VCALENDAR
PRODID:-//eluceo/ical//2.0/EN
VERSION:2.0
CALSCALE:GREGORIAN
BEGIN:VEVENT
UID:1d17c2dd82826405a89110fa8d419eda
DTSTAMP:20260424T105738Z
SUMMARY:BT Special
DESCRIPTION:Jewish Federation of Greater Naples\nCommunity Calendar\nhttps:
 //jewishnaples.org/calendar/bt-special-1588084883\n\nBeth Tikvah\nSpecial 
 Sermon
DTSTART;TZID=America/New_York:20210122T181500
DTEND;TZID=America/New_York:20210122T191500
END:VEVENT
END:VCALENDAR
