BEGIN:VCALENDAR
PRODID:-//eluceo/ical//2.0/EN
VERSION:2.0
CALSCALE:GREGORIAN
BEGIN:VEVENT
UID:28c0a468d04f237adc08e66825db2968
DTSTAMP:20260422T211806Z
SUMMARY:BT Speaker Series\, March 2
DESCRIPTION:Jewish Federation of Greater Naples\nCommunity Calendar\nhttps:
 //jewishnaples.org/calendar/bt-speaker-series-march-2-1657818852\n\nBeth T
 ikvah
DTSTART;TZID=America/New_York:20230302T193000
DTEND;TZID=America/New_York:20230302T213000
END:VEVENT
END:VCALENDAR
