BEGIN:VCALENDAR
PRODID:-//eluceo/ical//2.0/EN
VERSION:2.0
CALSCALE:GREGORIAN
BEGIN:VEVENT
UID:c6a389a17e6f252d02a21ff8fd15fa37
DTSTAMP:20260423T214840Z
SUMMARY:BT Speaker Series
DESCRIPTION:Jewish Federation of Greater Naples\nCommunity Calendar\nhttps:
 //jewishnaples.org/calendar/bt-speaker-series-1657817707\n\nBeth Tikvah
DTSTART;TZID=America/New_York:20230216T193000
DTEND;TZID=America/New_York:20230216T203000
END:VEVENT
END:VCALENDAR
