BEGIN:VCALENDAR
PRODID:-//eluceo/ical//2.0/EN
VERSION:2.0
CALSCALE:GREGORIAN
BEGIN:VEVENT
UID:8cfd0313accfe667583d2f2dc079c7fe
DTSTAMP:20260424T041715Z
SUMMARY:BT Speaker Series
DESCRIPTION:Jewish Federation of Greater Naples\nCommunity Calendar\nhttps:
 //jewishnaples.org/calendar/bt-speaker-series-1560952237\n\nBeth Tikvah\nS
 peaker Series
DTSTART;TZID=America/New_York:20200326T193000
DTEND;TZID=America/New_York:20200326T213000
END:VEVENT
END:VCALENDAR
