BEGIN:VCALENDAR
PRODID:-//eluceo/ical//2.0/EN
VERSION:2.0
CALSCALE:GREGORIAN
BEGIN:VEVENT
UID:0b6b56edefe7314fbc2982e6e1dc7d0b
DTSTAMP:20260421T013320Z
SUMMARY:BT Speaker Series
DESCRIPTION:Jewish Federation of Greater Naples\nCommunity Calendar\nhttps:
 //jewishnaples.org/calendar/bt-speaker-series-1560876101\n\nBeth Tikvah Sp
 eaker Series
DTSTART;TZID=America/New_York:20200312T193000
DTEND;TZID=America/New_York:20200312T213000
END:VEVENT
END:VCALENDAR
