BEGIN:VCALENDAR
PRODID:-//eluceo/ical//2.0/EN
VERSION:2.0
CALSCALE:GREGORIAN
BEGIN:VEVENT
UID:bcca27f232576b931a199e0fa3599d73
DTSTAMP:20260424T073749Z
SUMMARY:BT Speaker Series
DESCRIPTION:Jewish Federation of Greater Naples\nCommunity Calendar\nhttps:
 //jewishnaples.org/calendar/bt-speaker-series-1560779884\n\nBeth Tikvah\nS
 peaker Series at 7:30 PM
DTSTART;TZID=America/New_York:20200109T193000
DTEND;TZID=America/New_York:20200109T210000
END:VEVENT
END:VCALENDAR
