BEGIN:VCALENDAR
PRODID:-//eluceo/ical//2.0/EN
VERSION:2.0
CALSCALE:GREGORIAN
BEGIN:VEVENT
UID:d7d765f07bb49fafe83b73645fa400de
DTSTAMP:20260424T041421Z
SUMMARY:BT Shemini Atzeret
DESCRIPTION:Jewish Federation of Greater Naples\nCommunity Calendar\nhttps:
 //jewishnaples.org/calendar/bt-shemini-atzeret\n\nBeth Tikvah
DTSTART;TZID=America/New_York:20161024T090000
DTEND;TZID=America/New_York:20161024T090000
END:VEVENT
END:VCALENDAR
