BEGIN:VCALENDAR
PRODID:-//eluceo/ical//2.0/EN
VERSION:2.0
CALSCALE:GREGORIAN
BEGIN:VEVENT
UID:5333a42af80c36c033490fa660f95834
DTSTAMP:20260422T203928Z
SUMMARY:BT Shabbat Services
DESCRIPTION:Jewish Federation of Greater Naples\nCommunity Calendar\nhttps:
 //jewishnaples.org/calendar/bt-shabbat-services\n\n9:30 am Shabbat Morning
  Services at Beth Tikvah
DTSTART;TZID=America/New_York:20170506T093000
DTEND;TZID=America/New_York:20170506T113000
END:VEVENT
END:VCALENDAR
