BEGIN:VCALENDAR
PRODID:-//eluceo/ical//2.0/EN
VERSION:2.0
CALSCALE:GREGORIAN
BEGIN:VEVENT
UID:ee25b1275ad7259c24076801b1aa6d0e
DTSTAMP:20260424T090717Z
SUMMARY:BT Shabbat Morning Services
DESCRIPTION:Jewish Federation of Greater Naples\nCommunity Calendar\nhttps:
 //jewishnaples.org/calendar/bt-shabbat-morning-services\n\n9:30 am Shabbat
  Morning Services at Beth Tikvah
DTSTART;TZID=America/New_York:20200502T093000
DTEND;TZID=America/New_York:20200502T113000
END:VEVENT
END:VCALENDAR
