BEGIN:VCALENDAR
PRODID:-//eluceo/ical//2.0/EN
VERSION:2.0
CALSCALE:GREGORIAN
BEGIN:VEVENT
UID:9d41e198afb7f0d6e8d1af2809f8457f
DTSTAMP:20260422T105753Z
SUMMARY:BT Scholar in Residence Weekend
DESCRIPTION:Jewish Federation of Greater Naples\nCommunity Calendar\nhttps:
 //jewishnaples.org/calendar/bt-scholar-in-residence-weekend-1526654631\n\n
 BT Scholar in Residence Weekend with Friday night "Eat & Learn"
DTSTART;TZID=America/New_York:20190308T180000
DTEND;TZID=America/New_York:20190310T200000
END:VEVENT
END:VCALENDAR
