BEGIN:VCALENDAR
PRODID:-//eluceo/ical//2.0/EN
VERSION:2.0
CALSCALE:GREGORIAN
BEGIN:VEVENT
UID:80f2b170765792089e5d7caae06e11c2
DTSTAMP:20260423T150245Z
SUMMARY:BT Scholar-in-Residence
DESCRIPTION:Jewish Federation of Greater Naples\nCommunity Calendar\nhttps:
 //jewishnaples.org/calendar/bt-scholar-in-residence-1657819554\n\nBeth Tik
 vah
DTSTART;TZID=America/New_York:20230312T100000
DTEND;TZID=America/New_York:20230312T120000
END:VEVENT
END:VCALENDAR
