BEGIN:VCALENDAR
PRODID:-//eluceo/ical//2.0/EN
VERSION:2.0
CALSCALE:GREGORIAN
BEGIN:VEVENT
UID:358cacf3fb28e57f10306b55436c3c9d
DTSTAMP:20260422T211836Z
SUMMARY:BT Scholar-in-Residence
DESCRIPTION:Jewish Federation of Greater Naples\nCommunity Calendar\nhttps:
 //jewishnaples.org/calendar/bt-scholar-in-residence-1657819485\n\nBeth Tik
 vah
DTSTART;TZID=America/New_York:20230311T093000
DTEND;TZID=America/New_York:20230311T113000
END:VEVENT
END:VCALENDAR
