BEGIN:VCALENDAR
PRODID:-//eluceo/ical//2.0/EN
VERSION:2.0
CALSCALE:GREGORIAN
BEGIN:VEVENT
UID:e62c3563f116a432e4f11c0208d68880
DTSTAMP:20260422T013108Z
SUMMARY:BT Scholar-in-Residence
DESCRIPTION:Jewish Federation of Greater Naples\nCommunity Calendar\nhttps:
 //jewishnaples.org/calendar/bt-scholar-in-residence-1657819365\n\nBeth Tik
 vah
DTSTART;TZID=America/New_York:20230310T181500
DTEND;TZID=America/New_York:20230310T201500
END:VEVENT
END:VCALENDAR
