BEGIN:VCALENDAR
PRODID:-//eluceo/ical//2.0/EN
VERSION:2.0
CALSCALE:GREGORIAN
BEGIN:VEVENT
UID:6ff7923f1a2e2a5063f787f5a9c646f7
DTSTAMP:20260422T154542Z
SUMMARY:BT Scholar-in-Residence
DESCRIPTION:Jewish Federation of Greater Naples\nCommunity Calendar\nhttps:
 //jewishnaples.org/calendar/bt-scholar-in-residence-1657817478\n\nBeth Tik
 vah
DTSTART;TZID=America/New_York:20230210T181500
DTEND;TZID=America/New_York:20230210T191500
END:VEVENT
END:VCALENDAR
