BEGIN:VCALENDAR
PRODID:-//eluceo/ical//2.0/EN
VERSION:2.0
CALSCALE:GREGORIAN
BEGIN:VEVENT
UID:0ef0958ca96c9be9d214dd0cb791250e
DTSTAMP:20260424T062433Z
SUMMARY:BT Scholar-in-Residence
DESCRIPTION:Jewish Federation of Greater Naples\nCommunity Calendar\nhttps:
 //jewishnaples.org/calendar/bt-scholar-in-residence-1657816825\n\nBeth Tik
 vah
DTSTART;TZID=America/New_York:20230114T093000
DTEND;TZID=America/New_York:20230114T103000
END:VEVENT
END:VCALENDAR
