BEGIN:VCALENDAR
PRODID:-//eluceo/ical//2.0/EN
VERSION:2.0
CALSCALE:GREGORIAN
BEGIN:VEVENT
UID:37356670a304c80ab5a9cd75fc0b77c2
DTSTAMP:20260423T084834Z
SUMMARY:BT Scholar-in-Residence
DESCRIPTION:Jewish Federation of Greater Naples\nCommunity Calendar\nhttps:
 //jewishnaples.org/calendar/bt-scholar-in-residence-1657816760\n\nBeth Tik
 vah
DTSTART;TZID=America/New_York:20230113T181500
DTEND;TZID=America/New_York:20230113T191500
END:VEVENT
END:VCALENDAR
