BEGIN:VCALENDAR
PRODID:-//eluceo/ical//2.0/EN
VERSION:2.0
CALSCALE:GREGORIAN
BEGIN:VEVENT
UID:a4d0c2c38544d582292607689038d364
DTSTAMP:20260421T192513Z
SUMMARY:BT Scholar in Residence
DESCRIPTION:Jewish Federation of Greater Naples\nCommunity Calendar\nhttps:
 //jewishnaples.org/calendar/bt-scholar-in-residence-1588170472\n\nBeth Tik
 vah\nScholar in Residence
DTSTART;TZID=America/New_York:20210219T181500
DTEND;TZID=America/New_York:20210219T201500
END:VEVENT
END:VCALENDAR
