BEGIN:VCALENDAR
PRODID:-//eluceo/ical//2.0/EN
VERSION:2.0
CALSCALE:GREGORIAN
BEGIN:VEVENT
UID:8cb190c46c3f309a221a4a91ab80691d
DTSTAMP:20260422T233523Z
SUMMARY:BT Scholar in Residence
DESCRIPTION:Jewish Federation of Greater Naples\nCommunity Calendar\nhttps:
 //jewishnaples.org/calendar/bt-scholar-in-residence\n\nBeth Tikvah
DTSTART;TZID=America/New_York:20170310T090000
DTEND;TZID=America/New_York:20170310T090000
END:VEVENT
END:VCALENDAR
