BEGIN:VCALENDAR
PRODID:-//eluceo/ical//2.0/EN
VERSION:2.0
CALSCALE:GREGORIAN
BEGIN:VEVENT
UID:86512cad22723b43167dc93cbd7c11b4
DTSTAMP:20260422T160042Z
SUMMARY:BT Rosh Hodesh Women's Study Group\, Feb
DESCRIPTION:Jewish Federation of Greater Naples\nCommunity Calendar\nhttps:
 //jewishnaples.org/calendar/bt-rosh-hodesh-womens-study-group-feb\n\nBeth 
 Tikvah
DTSTART;TZID=America/New_York:20180218T100000
DTEND;TZID=America/New_York:20180218T120000
END:VEVENT
END:VCALENDAR
