BEGIN:VCALENDAR
PRODID:-//eluceo/ical//2.0/EN
VERSION:2.0
CALSCALE:GREGORIAN
BEGIN:VEVENT
UID:351ae5d541c835a5a0ef356b9df8eb59
DTSTAMP:20260423T054943Z
SUMMARY:BT Rosh Hodesh Women's Study Group\, Dec
DESCRIPTION:Jewish Federation of Greater Naples\nCommunity Calendar\nhttps:
 //jewishnaples.org/calendar/bt-rosh-hodesh-womens-study-group-dec\n\nBeth 
 Tikvah
DTSTART;TZID=America/New_York:20171217T100000
DTEND;TZID=America/New_York:20171217T120000
END:VEVENT
END:VCALENDAR
