BEGIN:VCALENDAR
PRODID:-//eluceo/ical//2.0/EN
VERSION:2.0
CALSCALE:GREGORIAN
BEGIN:VEVENT
UID:cf6c8d4cc3e9aabf52fee7573aa659f4
DTSTAMP:20260423T231917Z
SUMMARY:BT Rosh Hodesh Women's Study Group\, April
DESCRIPTION:Jewish Federation of Greater Naples\nCommunity Calendar\nhttps:
 //jewishnaples.org/calendar/bt-rosh-hodesh-womens-study-group-april\n\nBet
 h Tikvah
DTSTART;TZID=America/New_York:20180415T100000
DTEND;TZID=America/New_York:20180415T120000
END:VEVENT
END:VCALENDAR
