BEGIN:VCALENDAR
PRODID:-//eluceo/ical//2.0/EN
VERSION:2.0
CALSCALE:GREGORIAN
BEGIN:VEVENT
UID:546374e88cf0ca5b56307ae9addbec25
DTSTAMP:20260424T043452Z
SUMMARY:BT Rosh Hodesh Women's Study
DESCRIPTION:Jewish Federation of Greater Naples\nCommunity Calendar\nhttps:
 //jewishnaples.org/calendar/bt-rosh-hodesh-womens-study-1588082900\n\nBeth
  Tikvah\nRosh Hodesh Women's Study
DTSTART;TZID=America/New_York:20201115T100000
DTEND;TZID=America/New_York:20201115T120000
END:VEVENT
END:VCALENDAR
