BEGIN:VCALENDAR
PRODID:-//eluceo/ical//2.0/EN
VERSION:2.0
CALSCALE:GREGORIAN
BEGIN:VEVENT
UID:f9f4b8b45fc7789cc9a25a514e36aa0b
DTSTAMP:20260423T233647Z
SUMMARY:BT Rosh Hashanah\, Day 2
DESCRIPTION:Jewish Federation of Greater Naples\nCommunity Calendar\nhttps:
 //jewishnaples.org/calendar/bt-rosh-hashanah-day-2-1755799009\n\nBeth Tikv
 ah
DTSTART;TZID=America/New_York:20250924T090000
DTEND;TZID=America/New_York:20250924T110000
END:VEVENT
END:VCALENDAR
