BEGIN:VCALENDAR
PRODID:-//eluceo/ical//2.0/EN
VERSION:2.0
CALSCALE:GREGORIAN
BEGIN:VEVENT
UID:40336e1b72101944b7c04aff2e52ae6c
DTSTAMP:20260420T182129Z
SUMMARY:BT Rosh Chodesh Women's Group
DESCRIPTION:Jewish Federation of Greater Naples\nCommunity Calendar\nhttps:
 //jewishnaples.org/calendar/bt-rosh-chodesh-womens-group-1528298127\n\nBT 
 Rosh Chodesh Women's Group
DTSTART;TZID=America/New_York:20181007T100000
DTEND;TZID=America/New_York:20181007T120000
END:VEVENT
END:VCALENDAR
