BEGIN:VCALENDAR
PRODID:-//eluceo/ical//2.0/EN
VERSION:2.0
CALSCALE:GREGORIAN
BEGIN:VEVENT
UID:386012a517987985c5966236fdd3cd86
DTSTAMP:20260423T082031Z
SUMMARY:BT Religious School
DESCRIPTION:Jewish Federation of Greater Naples\nCommunity Calendar\nhttps:
 //jewishnaples.org/calendar/bt-religious-school-1559318274\n\nBeth Tikvah 
 Religious School
DTSTART;TZID=America/New_York:20190825T090000
DTEND;TZID=America/New_York:20190825T110000
END:VEVENT
END:VCALENDAR
