BEGIN:VCALENDAR
PRODID:-//eluceo/ical//2.0/EN
VERSION:2.0
CALSCALE:GREGORIAN
BEGIN:VEVENT
UID:197c8c8b575980b16234129ca60b154d
DTSTAMP:20260422T013037Z
SUMMARY:BT Purim Party
DESCRIPTION:Jewish Federation of Greater Naples\nCommunity Calendar\nhttps:
 //jewishnaples.org/calendar/bt-purim-party-1560875194\n\nBeth Tikvah\nPuri
 m Party & Megillah Reading
DTSTART;TZID=America/New_York:20200309T170000
DTEND;TZID=America/New_York:20200309T190000
END:VEVENT
END:VCALENDAR
