BEGIN:VCALENDAR
PRODID:-//eluceo/ical//2.0/EN
VERSION:2.0
CALSCALE:GREGORIAN
BEGIN:VEVENT
UID:0fc0d60e0729ce20e967dde5ebfb48b9
DTSTAMP:20260420T022610Z
SUMMARY:BT Purim Party & Megillah
DESCRIPTION:Jewish Federation of Greater Naples\nCommunity Calendar\nhttps:
 //jewishnaples.org/calendar/bt-purim-party--megillah-1657818900\n\nBeth Ti
 kvah
DTSTART;TZID=America/New_York:20230306T173000
DTEND;TZID=America/New_York:20230306T193000
END:VEVENT
END:VCALENDAR
