BEGIN:VCALENDAR
PRODID:-//eluceo/ical//2.0/EN
VERSION:2.0
CALSCALE:GREGORIAN
BEGIN:VEVENT
UID:aa82ba3328ae99be31f24787bc675193
DTSTAMP:20260422T233644Z
SUMMARY:BT October Film
DESCRIPTION:Jewish Federation of Greater Naples\nCommunity Calendar\nhttps:
 //jewishnaples.org/calendar/bt-october-film\n\nBeth Tikvah Film
DTSTART;TZID=America/New_York:20171026T193000
DTEND;TZID=America/New_York:20171026T213000
END:VEVENT
END:VCALENDAR
