BEGIN:VCALENDAR
PRODID:-//eluceo/ical//2.0/EN
VERSION:2.0
CALSCALE:GREGORIAN
BEGIN:VEVENT
UID:c2183acae30aabfe3cd62600c0e1a040
DTSTAMP:20260419T211333Z
SUMMARY:BT Naples Jewish Film Festival
DESCRIPTION:Jewish Federation of Greater Naples\nCommunity Calendar\nhttps:
 //jewishnaples.org/calendar/bt-naples-jewish-film-festival-1626716364\n\nB
 T NAPLES JEWISH FILM FESTIVAL
DTSTART;TZID=America/New_York:20220227T190000
DTEND;TZID=America/New_York:20220227T210000
END:VEVENT
END:VCALENDAR
