BEGIN:VCALENDAR
PRODID:-//eluceo/ical//2.0/EN
VERSION:2.0
CALSCALE:GREGORIAN
BEGIN:VEVENT
UID:00f52a4fe2782ee480eb74bcfa997bba
DTSTAMP:20260420T000901Z
SUMMARY:BT Naples Jewish Film Festival
DESCRIPTION:Jewish Federation of Greater Naples\nCommunity Calendar\nhttps:
 //jewishnaples.org/calendar/bt-naples-jewish-film-festival-1588171749\n\nB
 T\nNaples Jewish Film Festival
DTSTART;TZID=America/New_York:20210307T193000
DTEND;TZID=America/New_York:20210307T213000
END:VEVENT
END:VCALENDAR
