BEGIN:VCALENDAR
PRODID:-//eluceo/ical//2.0/EN
VERSION:2.0
CALSCALE:GREGORIAN
BEGIN:VEVENT
UID:0c1d21bf57cce73f838a632a5bb69c39
DTSTAMP:20260422T222705Z
SUMMARY:BT Mincha
DESCRIPTION:Jewish Federation of Greater Naples\nCommunity Calendar\nhttps:
 //jewishnaples.org/calendar/bt-mincha\n\nBeth Tikvah
DTSTART;TZID=America/New_York:20161012T163000
DTEND;TZID=America/New_York:20161012T163000
END:VEVENT
END:VCALENDAR
